BEGIN:VCALENDAR
VERSION:2.0
PRODID:-//St. Medardus - ECPv6.15.20//NONSGML v1.0//EN
CALSCALE:GREGORIAN
METHOD:PUBLISH
X-WR-CALNAME:St. Medardus
X-ORIGINAL-URL:https://www.fahrverein-st-medardus.de
X-WR-CALDESC:Veranstaltungen für St. Medardus
REFRESH-INTERVAL;VALUE=DURATION:PT1H
X-Robots-Tag:noindex
X-PUBLISHED-TTL:PT1H
BEGIN:VTIMEZONE
TZID:Europe/Berlin
BEGIN:DAYLIGHT
TZOFFSETFROM:+0100
TZOFFSETTO:+0200
TZNAME:CEST
DTSTART:20220327T010000
END:DAYLIGHT
BEGIN:STANDARD
TZOFFSETFROM:+0200
TZOFFSETTO:+0100
TZNAME:CET
DTSTART:20221030T010000
END:STANDARD
BEGIN:DAYLIGHT
TZOFFSETFROM:+0100
TZOFFSETTO:+0200
TZNAME:CEST
DTSTART:20230326T010000
END:DAYLIGHT
BEGIN:STANDARD
TZOFFSETFROM:+0200
TZOFFSETTO:+0100
TZNAME:CET
DTSTART:20231029T010000
END:STANDARD
BEGIN:DAYLIGHT
TZOFFSETFROM:+0100
TZOFFSETTO:+0200
TZNAME:CEST
DTSTART:20240331T010000
END:DAYLIGHT
BEGIN:STANDARD
TZOFFSETFROM:+0200
TZOFFSETTO:+0100
TZNAME:CET
DTSTART:20241027T010000
END:STANDARD
END:VTIMEZONE
BEGIN:VEVENT
DTSTART;TZID=Europe/Berlin:20230319T093000
DTEND;TZID=Europe/Berlin:20230319T170000
DTSTAMP:20260423T085927
CREATED:20230110T100149Z
LAST-MODIFIED:20230314T062352Z
UID:6376-1679218200-1679245200@www.fahrverein-st-medardus.de
SUMMARY:Hindernisrichter Schulung
DESCRIPTION:Geländehindernis-Richter-Seminar & Geländetraining am 19. März\nDas Seminar richtet sich an jeden\, der bei einem Turnier gerne an einem Geländehindernis aushelfen möchte. \nVorkenntnisse sind keine erforderlich! \nVormittags: Theorieeinheit mit Richter Michael Straeten (Dauer ca. 2Std) \n• Unterweisung\n• Klärung von Fragen \nKleiner Mittagsimbiss \nAnschließend: Praxiseinheit an drei verschiedenen Geländehindernissen. An jedem Hindernis wird ein Richter anwesend sein und es werden Gespanne in unterschiedlichen Klassen starten.\nDieses Seminar ist für alle Teilnehmer kostenlos\, wir würden uns natürlich im Gegenzug über fleißige Helfer bei unseren Turnieren freuen. 🙂 \nWir bitten um Anmeldung bis zum 12. März 2023. \n  \nFür die aktiven Fahrer: \nIm Rahmen des Geländehindernis-Richter-Seminars bieten wir ein Geländefahr-training für die Gespann Fahrer an. \nEs kann in den Klassen E-A-M gestartet werden.\nInsgesamt werden 3 Hindernisse ausgeflaggt und an jedem Hindernis wird ein Trainer anwesend sein. Helm & Weste sind selbstverständlich Pflicht sowie 2-achsige Wagen. \nFür Vereinsmitglieder ist das Training kostenlos\, externe Teilnehmer zahlen einen Unkostenbeitrag von 15€ inkl. Anlangen Nutzung. \nWir bitten um Anmeldung bis zum 12. März 2023 mit Angabe zum Gespann und der Klasse in der gestartet werden soll. \nAnmeldungen an: schriftfuehrer@fahrverein-st-medardus.de
URL:https://www.fahrverein-st-medardus.de/event/hindernisrichter-schulung/
END:VEVENT
BEGIN:VEVENT
DTSTART;TZID=Europe/Berlin:20230326T160000
DTEND;TZID=Europe/Berlin:20230326T180000
DTSTAMP:20260423T085927
CREATED:20230110T100234Z
LAST-MODIFIED:20230110T100234Z
UID:6378-1679846400-1679853600@www.fahrverein-st-medardus.de
SUMMARY:Mitgliederversammlung
DESCRIPTION:Infos folgen
URL:https://www.fahrverein-st-medardus.de/event/mitgliederversammlung-4/
END:VEVENT
END:VCALENDAR