BEGIN:VCALENDAR
VERSION:2.0
PRODID:-//St. Medardus - ECPv6.15.20//NONSGML v1.0//EN
CALSCALE:GREGORIAN
METHOD:PUBLISH
X-WR-CALNAME:St. Medardus
X-ORIGINAL-URL:https://www.fahrverein-st-medardus.de
X-WR-CALDESC:Veranstaltungen für St. Medardus
REFRESH-INTERVAL;VALUE=DURATION:PT1H
X-Robots-Tag:noindex
X-PUBLISHED-TTL:PT1H
BEGIN:VTIMEZONE
TZID:Europe/Berlin
BEGIN:DAYLIGHT
TZOFFSETFROM:+0100
TZOFFSETTO:+0200
TZNAME:CEST
DTSTART:20200329T010000
END:DAYLIGHT
BEGIN:STANDARD
TZOFFSETFROM:+0200
TZOFFSETTO:+0100
TZNAME:CET
DTSTART:20201025T010000
END:STANDARD
BEGIN:DAYLIGHT
TZOFFSETFROM:+0100
TZOFFSETTO:+0200
TZNAME:CEST
DTSTART:20210328T010000
END:DAYLIGHT
BEGIN:STANDARD
TZOFFSETFROM:+0200
TZOFFSETTO:+0100
TZNAME:CET
DTSTART:20211031T010000
END:STANDARD
BEGIN:DAYLIGHT
TZOFFSETFROM:+0100
TZOFFSETTO:+0200
TZNAME:CEST
DTSTART:20220327T010000
END:DAYLIGHT
BEGIN:STANDARD
TZOFFSETFROM:+0200
TZOFFSETTO:+0100
TZNAME:CET
DTSTART:20221030T010000
END:STANDARD
END:VTIMEZONE
BEGIN:VEVENT
DTSTART;VALUE=DATE:20210711
DTEND;VALUE=DATE:20210712
DTSTAMP:20260424T180409
CREATED:20210609T061651Z
LAST-MODIFIED:20210609T061651Z
UID:4899-1625961600-1626047999@www.fahrverein-st-medardus.de
SUMMARY:Prüfung Fahrabzeichen
DESCRIPTION:Die Lockerungen machen es endlich möglich! \n 
URL:https://www.fahrverein-st-medardus.de/event/pruefung-fahrabzeichen-3/
END:VEVENT
BEGIN:VEVENT
DTSTART;TZID=Europe/Berlin:20210718T120000
DTEND;TZID=Europe/Berlin:20210718T140000
DTSTAMP:20260424T180409
CREATED:20210617T084702Z
LAST-MODIFIED:20210617T084728Z
UID:5022-1626609600-1626616800@www.fahrverein-st-medardus.de
SUMMARY:Quadrille - Training
DESCRIPTION:ACHTUNG: 12-14 Uhr Quadrillentraining im Dressurviereck
URL:https://www.fahrverein-st-medardus.de/event/quadrille-training/
END:VEVENT
END:VCALENDAR