BEGIN:VCALENDAR
VERSION:2.0
PRODID:-//St. Medardus - ECPv6.15.20//NONSGML v1.0//EN
CALSCALE:GREGORIAN
METHOD:PUBLISH
X-WR-CALNAME:St. Medardus
X-ORIGINAL-URL:https://www.fahrverein-st-medardus.de
X-WR-CALDESC:Veranstaltungen für St. Medardus
REFRESH-INTERVAL;VALUE=DURATION:PT1H
X-Robots-Tag:noindex
X-PUBLISHED-TTL:PT1H
BEGIN:VTIMEZONE
TZID:Europe/Berlin
BEGIN:DAYLIGHT
TZOFFSETFROM:+0100
TZOFFSETTO:+0200
TZNAME:CEST
DTSTART:20180325T010000
END:DAYLIGHT
BEGIN:STANDARD
TZOFFSETFROM:+0200
TZOFFSETTO:+0100
TZNAME:CET
DTSTART:20181028T010000
END:STANDARD
BEGIN:DAYLIGHT
TZOFFSETFROM:+0100
TZOFFSETTO:+0200
TZNAME:CEST
DTSTART:20190331T010000
END:DAYLIGHT
BEGIN:STANDARD
TZOFFSETFROM:+0200
TZOFFSETTO:+0100
TZNAME:CET
DTSTART:20191027T010000
END:STANDARD
BEGIN:DAYLIGHT
TZOFFSETFROM:+0100
TZOFFSETTO:+0200
TZNAME:CEST
DTSTART:20200329T010000
END:DAYLIGHT
BEGIN:STANDARD
TZOFFSETFROM:+0200
TZOFFSETTO:+0100
TZNAME:CET
DTSTART:20201025T010000
END:STANDARD
END:VTIMEZONE
BEGIN:VEVENT
DTSTART;TZID=Europe/Berlin:20191012T100000
DTEND;TZID=Europe/Berlin:20191012T150000
DTSTAMP:20260426T055452
CREATED:20190823T054337Z
LAST-MODIFIED:20190823T054337Z
UID:3379-1570874400-1570892400@www.fahrverein-st-medardus.de
SUMMARY:Fahrabzeichen Oktober
DESCRIPTION:Informationen zum Abzeichenlehrgang Oktober 2019\nVoraussetzungen:\nTeilnehmer für das FA4 müssen im Besitz des FA5 sein.\nSolide theoretische Kenntnisse werden vorausgesetzt.\nTrainings werden individuell abgesprochen. Gemeinsam mit den Trainern wird die Anzahl der\nbenötigten Praxiseinheiten abgesprochen.\nZusätzlich verpflichtend für alle ist die Teilnahme am Vorbereitungslehrgang vom 08. bis zum 10.\nOktober 2019\, abends im Vereinshaus. \n– Lehrgespanne/pferde werden nicht gestellt\, \n  \nAblauf des Lehrganges:\nFA4:\n1. Absprache der individuellen Trainingseinheiten zum FA4 mit den Trainern\nzweispännig/einspännig: Hermann\, Dirk\, Dorit\n2. Lehrgang vom 08-10. Oktober \nTheoretische Lehreinheiten\, abends im Vereinshaus \nFA7:\nFahreinheiten mit Dirk\ntheoretischer Teil : 28/29. September \n  \nAnmeldung \nInfoblatt
URL:https://www.fahrverein-st-medardus.de/event/fahrabzeichen-oktober/
END:VEVENT
BEGIN:VEVENT
DTSTART;VALUE=DATE:20191013
DTEND;VALUE=DATE:20191014
DTSTAMP:20260426T055452
CREATED:20190225T135115Z
LAST-MODIFIED:20190325T063917Z
UID:1345-1570924800-1571011199@www.fahrverein-st-medardus.de
SUMMARY:Vereinsmeisterschaften
DESCRIPTION:
URL:https://www.fahrverein-st-medardus.de/event/saisonabschluss-turnier/
END:VEVENT
BEGIN:VEVENT
DTSTART;VALUE=DATE:20191013
DTEND;VALUE=DATE:20191014
DTSTAMP:20260426T055452
CREATED:20190928T190555Z
LAST-MODIFIED:20191011T185308Z
UID:3725-1570924800-1571011199@www.fahrverein-st-medardus.de
SUMMARY:Fahrturnier 2019 mit Vereinsmeisterschaften
DESCRIPTION:Einladung zum Saison-Abschluss-Turnier\nam Sonntag\, dem 13. Oktober 2019 mit Vereinsmeisterschaften \nLiebe Fahrfreunde\, liebe Vereinsmitglieder\,\nauch dieses Jahr laden wir wieder alle Mitglieder sowie deren Familien und Freunde und Freunde des Fahrvereins St. Medardus Zülpich e.V. herzlich zum diesjährigen Saison-Abschluss- Turnier am Sonntag\, dem 13. Oktober 2019 ab ca. 10:00 Uhr auf den Fahrplatz am Zülpicher Wassersportsee ein. \nKein(e) Gespannführer(in) des Vereins oder der Freunde sollte die Gelegenheit verpassen\, sich und seine Pferde zu präsentieren und sich an die Fahraufgaben heran zu wagen. In diesem Jahr haben wir zudem neben den bekannten Wettbewerben um die Vereinsmeisterschaft noch einen weiteren Wettbewerb speziell für Fahreinsteiger(in)\, Wiedereinsteiger(in)\, Gelegenheitsfahrer(in) oder einfach für Fahrer(in)\, die nur mal kurz Turnierluft schnuppern wollen. Der Wettbewerb WB 5 ist speziell für Fahrer ohne Lizenz. \nDie Ausschreibung für alle Wettbewerbe ist in der Anlage zu finden. \nNatürlich wird auch wieder für das leibliche Wohl gesorgt sein. \nWie jedes Jahr ermitteln wir am Ende den Vereinsmeister und feiern ihn/sie bei der Übergabe des Meisterpokals. Lasst uns das Fest feiern!! \nBitte gebt bei der Anmeldung die Spurbreite der verwendeten Kutsche an. \nAnmeldungen von Gästen werden nach dem Datum des Nennungseingangs bis max. 20 Gastteilnehmer berücksichtigt. \nDas Organisation- Team freut sich auf Eure rege Beteiligung als Fahrer\, Beifahrer oder Zuschauer. \nBis dahin grüßt Euch für den Vorstand\nGerhard Thelen\n1.Vorsitzender \nAusschreibung Saisonabschluss 2019 \nMeldeformular \nEinladung Saisonabschluss 2019 \n  \nStarterlisten\nEinspänner Pony: \nDressur Hindernisfahren Geländehindernisse \nZweispänner Pony: \nDressur Hindernisfahren Geländehindernisse \nEinspänner Pferd: \nDressur Hindernisfahren Geländehindernisse \nEinsteigerwettbewerb: \nFahrerwettbewerb
URL:https://www.fahrverein-st-medardus.de/event/fahrturnier-2019-mit-vereinsmeisterschaften/
END:VEVENT
BEGIN:VEVENT
DTSTART;TZID=Europe/Berlin:20191019T080000
DTEND;TZID=Europe/Berlin:20191020T170000
DTSTAMP:20260426T055452
CREATED:20190902T054710Z
LAST-MODIFIED:20190902T054904Z
UID:3472-1571472000-1571590800@www.fahrverein-st-medardus.de
SUMMARY:Fahrtraining mit Wolfgang Lohrer „Saisonende – welche Schwerpunkte sollen für die Winterarbeit gesetzt werden?“
DESCRIPTION:Am Wochenende 19. / 20. Oktober 2019 bieten wir vereinsseitig ein Fahrtraining mit dem ehemaligen Bundestrainer Wolfgang Lohrer auf unserem Fahrplatz an. \nDas Training steht unter dem Motto „Saisonende – welche Schwerpunkte sollen für die Winterarbeit gesetzt werden?“. \nAuf dieses Training baut dann im kommenden Frühjahr am 14./15. März 2020 ein weiteres Training mit Wolfgang Lohrer unter dem Motto „Start in die Saison“ auf. \nDie Kosten belaufen sich für das Training im Oktober auf 185\,- € pro Gespann. \nAnmeldungen werden ab sofort an unsere Sportwartin Dorit Santema erbeten. (Adresse siehe Anmeldeformular) \nPotentielle Teilnehmer an der DJM 2020 aus unserem Verein werden bevorzugt berücksichtigt werden.
URL:https://www.fahrverein-st-medardus.de/event/fahrtraining-mit-wolfgang-lohrer-teil-i/
END:VEVENT
END:VCALENDAR