BEGIN:VCALENDAR
VERSION:2.0
PRODID:-//St. Medardus - ECPv6.15.20//NONSGML v1.0//EN
CALSCALE:GREGORIAN
METHOD:PUBLISH
X-ORIGINAL-URL:https://www.fahrverein-st-medardus.de
X-WR-CALDESC:Veranstaltungen für St. Medardus
REFRESH-INTERVAL;VALUE=DURATION:PT1H
X-Robots-Tag:noindex
X-PUBLISHED-TTL:PT1H
BEGIN:VTIMEZONE
TZID:Europe/Berlin
BEGIN:DAYLIGHT
TZOFFSETFROM:+0100
TZOFFSETTO:+0200
TZNAME:CEST
DTSTART:20220327T010000
END:DAYLIGHT
BEGIN:STANDARD
TZOFFSETFROM:+0200
TZOFFSETTO:+0100
TZNAME:CET
DTSTART:20221030T010000
END:STANDARD
BEGIN:DAYLIGHT
TZOFFSETFROM:+0100
TZOFFSETTO:+0200
TZNAME:CEST
DTSTART:20230326T010000
END:DAYLIGHT
BEGIN:STANDARD
TZOFFSETFROM:+0200
TZOFFSETTO:+0100
TZNAME:CET
DTSTART:20231029T010000
END:STANDARD
BEGIN:DAYLIGHT
TZOFFSETFROM:+0100
TZOFFSETTO:+0200
TZNAME:CEST
DTSTART:20240331T010000
END:DAYLIGHT
BEGIN:STANDARD
TZOFFSETFROM:+0200
TZOFFSETTO:+0100
TZNAME:CET
DTSTART:20241027T010000
END:STANDARD
END:VTIMEZONE
BEGIN:VEVENT
DTSTART;TZID=Europe/Berlin:20231118T080000
DTEND;TZID=Europe/Berlin:20231118T170000
DTSTAMP:20260422T205755
CREATED:20230802T072020Z
LAST-MODIFIED:20231022T102035Z
UID:6981-1700294400-1700326800@www.fahrverein-st-medardus.de
SUMMARY:Helferparty
DESCRIPTION:Liebe Helfer\,\n \nwir möchten Euch ganz herzlich einladen zur diesjährigen Helferparty am 18. November 2023.\n\n \nWir starten um 18:30 Uhr im Vereinshaus mit leckerem Essen und anschließendem gemütlichen Beisammensein.\n \nEingeladen sind alle Mitglieder\, die unseren Verein 2023 unterstützt haben. \n \nWir bitten um Anmeldung bis spätestens 08. November 2023  –  damit niemand hungrig oder durstig das Vereinshaus verlassen muss. \n \nDie Anmeldungen bitte an Dorit Santema richten: stellvertreter@fahrverein-st-medardus.de\n 
URL:https://www.fahrverein-st-medardus.de/event/helferparty/
END:VEVENT
END:VCALENDAR