BEGIN:VCALENDAR
VERSION:2.0
PRODID:-//St. Medardus - ECPv6.15.20//NONSGML v1.0//EN
CALSCALE:GREGORIAN
METHOD:PUBLISH
X-WR-CALNAME:St. Medardus
X-ORIGINAL-URL:https://www.fahrverein-st-medardus.de
X-WR-CALDESC:Veranstaltungen für St. Medardus
REFRESH-INTERVAL;VALUE=DURATION:PT1H
X-Robots-Tag:noindex
X-PUBLISHED-TTL:PT1H
BEGIN:VTIMEZONE
TZID:Europe/Berlin
BEGIN:DAYLIGHT
TZOFFSETFROM:+0100
TZOFFSETTO:+0200
TZNAME:CEST
DTSTART:20220327T010000
END:DAYLIGHT
BEGIN:STANDARD
TZOFFSETFROM:+0200
TZOFFSETTO:+0100
TZNAME:CET
DTSTART:20221030T010000
END:STANDARD
BEGIN:DAYLIGHT
TZOFFSETFROM:+0100
TZOFFSETTO:+0200
TZNAME:CEST
DTSTART:20230326T010000
END:DAYLIGHT
BEGIN:STANDARD
TZOFFSETFROM:+0200
TZOFFSETTO:+0100
TZNAME:CET
DTSTART:20231029T010000
END:STANDARD
BEGIN:DAYLIGHT
TZOFFSETFROM:+0100
TZOFFSETTO:+0200
TZNAME:CEST
DTSTART:20240331T010000
END:DAYLIGHT
BEGIN:STANDARD
TZOFFSETFROM:+0200
TZOFFSETTO:+0100
TZNAME:CET
DTSTART:20241027T010000
END:STANDARD
END:VTIMEZONE
BEGIN:VEVENT
DTSTART;TZID=Europe/Berlin:20230923T090000
DTEND;TZID=Europe/Berlin:20230924T170000
DTSTAMP:20260423T002527
CREATED:20230802T071937Z
LAST-MODIFIED:20230802T071947Z
UID:6977-1695459600-1695574800@www.fahrverein-st-medardus.de
SUMMARY:Training mit Herbert Sauer
DESCRIPTION:Wir dürfen auch dieses Jahr noch einmal Herbert Sauer bei uns auf dem Vereinsgelände begrüßen \nDas Training mit ihm wird am 23. & 24. September 2023 stattfinden. \nHerbert Sauer ist ein toller Trainer\, nicht nur für die Turnierfahrer\, denn er nimmt jedes Gespann so wie es ist und holt es auf seinem aktuellen Leistungsstand ab. \nMit seinem geschulten Auge erkennt er die Schwächen und Stärken der FahrerInnen und dessen Gespannen sehr schnell und kann verständlich erklären wie man die Schwächen verbessern und die Stärken noch mehr ausfahren kann. \nDie Kosten der Trainingseinheiten belaufen sich auf 30€ für 45 Minuten. Geplant sind 2 Einheiten pro Tag und Gespann\, ihr könnt aber auch gerne mit Christine sprechen\, falls ihr andere Wünsche habt. \n\n \n\nAnmeldungen bitte mit „Wunschzeiten“ ab sofort bis spätestens 03. September an unsere Sportwartin Christine: sportwart@fahrverein-st-medardus.de 
URL:https://www.fahrverein-st-medardus.de/event/training-mit-herbert-sauer-2/
END:VEVENT
END:VCALENDAR