BEGIN:VCALENDAR
VERSION:2.0
PRODID:-//St. Medardus - ECPv6.15.20//NONSGML v1.0//EN
CALSCALE:GREGORIAN
METHOD:PUBLISH
X-ORIGINAL-URL:https://www.fahrverein-st-medardus.de
X-WR-CALDESC:Veranstaltungen für St. Medardus
REFRESH-INTERVAL;VALUE=DURATION:PT1H
X-Robots-Tag:noindex
X-PUBLISHED-TTL:PT1H
BEGIN:VTIMEZONE
TZID:Europe/Berlin
BEGIN:DAYLIGHT
TZOFFSETFROM:+0100
TZOFFSETTO:+0200
TZNAME:CEST
DTSTART:20220327T010000
END:DAYLIGHT
BEGIN:STANDARD
TZOFFSETFROM:+0200
TZOFFSETTO:+0100
TZNAME:CET
DTSTART:20221030T010000
END:STANDARD
BEGIN:DAYLIGHT
TZOFFSETFROM:+0100
TZOFFSETTO:+0200
TZNAME:CEST
DTSTART:20230326T010000
END:DAYLIGHT
BEGIN:STANDARD
TZOFFSETFROM:+0200
TZOFFSETTO:+0100
TZNAME:CET
DTSTART:20231029T010000
END:STANDARD
BEGIN:DAYLIGHT
TZOFFSETFROM:+0100
TZOFFSETTO:+0200
TZNAME:CEST
DTSTART:20240331T010000
END:DAYLIGHT
BEGIN:STANDARD
TZOFFSETFROM:+0200
TZOFFSETTO:+0100
TZNAME:CET
DTSTART:20241027T010000
END:STANDARD
END:VTIMEZONE
BEGIN:VEVENT
DTSTART;VALUE=DATE:20230507
DTEND;VALUE=DATE:20230508
DTSTAMP:20260423T070256
CREATED:20230110T100357Z
LAST-MODIFIED:20230503T114603Z
UID:6382-1683417600-1683503999@www.fahrverein-st-medardus.de
SUMMARY:Prüfung Fahrabzeichen
DESCRIPTION:Der Ablauf ist wie folgt geplant: \n09:30 Begrüßung der Richter\, Besprechung Prüfungstag \n10:00 Pferdeführerschein Umgang \n10:50 Dressurprüfung für FA5 (FE2) \n11:00 Praktisches Fahren FA6 \n12:00 Quadrille-Aufführung \n12:30 Mittagspause \n13:00 Theorie Stationsprüfungen \n14:30 Bekanntgabe der Ergebnisse\, Beginn der Feier
URL:https://www.fahrverein-st-medardus.de/event/pruefung-fahrabzeichen-5/
END:VEVENT
END:VCALENDAR