BEGIN:VCALENDAR
VERSION:2.0
PRODID:-//St. Medardus - ECPv6.15.20//NONSGML v1.0//EN
CALSCALE:GREGORIAN
METHOD:PUBLISH
X-ORIGINAL-URL:https://www.fahrverein-st-medardus.de
X-WR-CALDESC:Veranstaltungen für St. Medardus
REFRESH-INTERVAL;VALUE=DURATION:PT1H
X-Robots-Tag:noindex
X-PUBLISHED-TTL:PT1H
BEGIN:VTIMEZONE
TZID:Europe/Berlin
BEGIN:DAYLIGHT
TZOFFSETFROM:+0100
TZOFFSETTO:+0200
TZNAME:CEST
DTSTART:20210328T010000
END:DAYLIGHT
BEGIN:STANDARD
TZOFFSETFROM:+0200
TZOFFSETTO:+0100
TZNAME:CET
DTSTART:20211031T010000
END:STANDARD
BEGIN:DAYLIGHT
TZOFFSETFROM:+0100
TZOFFSETTO:+0200
TZNAME:CEST
DTSTART:20220327T010000
END:DAYLIGHT
BEGIN:STANDARD
TZOFFSETFROM:+0200
TZOFFSETTO:+0100
TZNAME:CET
DTSTART:20221030T010000
END:STANDARD
BEGIN:DAYLIGHT
TZOFFSETFROM:+0100
TZOFFSETTO:+0200
TZNAME:CEST
DTSTART:20230326T010000
END:DAYLIGHT
BEGIN:STANDARD
TZOFFSETFROM:+0200
TZOFFSETTO:+0100
TZNAME:CET
DTSTART:20231029T010000
END:STANDARD
END:VTIMEZONE
BEGIN:VEVENT
DTSTART;TZID=Europe/Berlin:20220521T160000
DTEND;TZID=Europe/Berlin:20220521T173000
DTSTAMP:20260424T030949
CREATED:20220509T062428Z
LAST-MODIFIED:20220509T062428Z
UID:5706-1653148800-1653154200@www.fahrverein-st-medardus.de
SUMMARY:Qiadrille Training
DESCRIPTION:Samstag\, 21. Mai\, findet um 16 Uhr  Quadrillentraining im Viereck statt. \nTermine sind immer unter Vorbehalt\, da ab und an mal ein Teilnehmer oder Pferd ausfällt und sich der Termin dann ggf. verschiebt wenn das Ersatztpaar zu der Zeit nicht kann…  🙂
URL:https://www.fahrverein-st-medardus.de/event/qiadrille-training/
END:VEVENT
END:VCALENDAR