BEGIN:VCALENDAR
VERSION:2.0
PRODID:-//St. Medardus - ECPv6.15.20//NONSGML v1.0//EN
CALSCALE:GREGORIAN
METHOD:PUBLISH
X-ORIGINAL-URL:https://www.fahrverein-st-medardus.de
X-WR-CALDESC:Veranstaltungen für St. Medardus
REFRESH-INTERVAL;VALUE=DURATION:PT1H
X-Robots-Tag:noindex
X-PUBLISHED-TTL:PT1H
BEGIN:VTIMEZONE
TZID:Europe/Berlin
BEGIN:DAYLIGHT
TZOFFSETFROM:+0100
TZOFFSETTO:+0200
TZNAME:CEST
DTSTART:20210328T010000
END:DAYLIGHT
BEGIN:STANDARD
TZOFFSETFROM:+0200
TZOFFSETTO:+0100
TZNAME:CET
DTSTART:20211031T010000
END:STANDARD
BEGIN:DAYLIGHT
TZOFFSETFROM:+0100
TZOFFSETTO:+0200
TZNAME:CEST
DTSTART:20220327T010000
END:DAYLIGHT
BEGIN:STANDARD
TZOFFSETFROM:+0200
TZOFFSETTO:+0100
TZNAME:CET
DTSTART:20221030T010000
END:STANDARD
BEGIN:DAYLIGHT
TZOFFSETFROM:+0100
TZOFFSETTO:+0200
TZNAME:CEST
DTSTART:20230326T010000
END:DAYLIGHT
BEGIN:STANDARD
TZOFFSETFROM:+0200
TZOFFSETTO:+0100
TZNAME:CET
DTSTART:20231029T010000
END:STANDARD
END:VTIMEZONE
BEGIN:VEVENT
DTSTART;TZID=Europe/Berlin:20220423T190000
DTEND;TZID=Europe/Berlin:20220423T210000
DTSTAMP:20260424T050328
CREATED:20220117T054801Z
LAST-MODIFIED:20220407T052505Z
UID:5440-1650740400-1650747600@www.fahrverein-st-medardus.de
SUMMARY:Ordentliche Mitgliederversammlung
DESCRIPTION:Einladung zur Mitgliederversammlung am 23. April 2022 \nLiebe Mitglieder\, \nhiermit laden wir herzlich zur Mitgliederversammlung ein.\nDie Versammlung findet am Samstag\, 23. April um 19:00 Uhr im Vereinsheim in Zülpich statt.\nWir bitten aus Rücksicht gegenüber den anderen Teilnehmern um das Tragen einer Maske beim Betreten des Vereinsheims. \nVorläufige Tagesordnung: \n1. Begrüßung und Feststellung der Formalien\n2. Aufnahme/Bekanntgabe neuer Mitglieder & Austritte\n3. Rechenschaftsbericht des Vorstandes\n4. Kassenbericht 2021\n5. Bericht der Kassenprüfer\n6. Entlastung des Vorstandes\n7. Wahl der Kassenprüfer*innen\n8. Vorschau Termine und Aktivitäten 2022\n9. Offene Punkte der letzten Mitgliederversammlung\n10. Verschiedenes \nZusatzanträge zur Tagesordnung bitten wir bis 8 Tage vor der Mitgliederversammlung an die Ge-schäftsstelle\nzu senden. \nWir bitten um zahlreiches Erscheinen und verbleiben bis dahin mit unserem Fahrergruß\n„Schnalle links\, Strupfe rechts\, Bremse los …“ \nFür den Vorstand \nHermann Foemer\n1. Vorsitzender
URL:https://www.fahrverein-st-medardus.de/event/ordentliche-mitgliederversammlung/
END:VEVENT
END:VCALENDAR