BEGIN:VCALENDAR
VERSION:2.0
PRODID:-//St. Medardus - ECPv6.15.20//NONSGML v1.0//EN
CALSCALE:GREGORIAN
METHOD:PUBLISH
X-WR-CALNAME:St. Medardus
X-ORIGINAL-URL:https://www.fahrverein-st-medardus.de
X-WR-CALDESC:Veranstaltungen für St. Medardus
REFRESH-INTERVAL;VALUE=DURATION:PT1H
X-Robots-Tag:noindex
X-PUBLISHED-TTL:PT1H
BEGIN:VTIMEZONE
TZID:Europe/Berlin
BEGIN:DAYLIGHT
TZOFFSETFROM:+0100
TZOFFSETTO:+0200
TZNAME:CEST
DTSTART:20200329T010000
END:DAYLIGHT
BEGIN:STANDARD
TZOFFSETFROM:+0200
TZOFFSETTO:+0100
TZNAME:CET
DTSTART:20201025T010000
END:STANDARD
BEGIN:DAYLIGHT
TZOFFSETFROM:+0100
TZOFFSETTO:+0200
TZNAME:CEST
DTSTART:20210328T010000
END:DAYLIGHT
BEGIN:STANDARD
TZOFFSETFROM:+0200
TZOFFSETTO:+0100
TZNAME:CET
DTSTART:20211031T010000
END:STANDARD
BEGIN:DAYLIGHT
TZOFFSETFROM:+0100
TZOFFSETTO:+0200
TZNAME:CEST
DTSTART:20220327T010000
END:DAYLIGHT
BEGIN:STANDARD
TZOFFSETFROM:+0200
TZOFFSETTO:+0100
TZNAME:CET
DTSTART:20221030T010000
END:STANDARD
END:VTIMEZONE
BEGIN:VEVENT
DTSTART;VALUE=DATE:20211023
DTEND;VALUE=DATE:20211025
DTSTAMP:20260424T144834
CREATED:20211005T132021Z
LAST-MODIFIED:20211005T132021Z
UID:5202-1634947200-1635119999@www.fahrverein-st-medardus.de
SUMMARY:Wolle Lohrer Training
DESCRIPTION: \n\n\n\n\n\n\n  \nLiebe Fahrfreunde\, \n  \nam 23. – 24. Oktober ist es soweit\, Wolle Lohrer kommt wieder zu uns nach Zülpich. \n  \nDas Training wird als Trainer & Richterfortbildung genutzt. Das bedeutet\, am Samstag schauen den Fahrern zusätzlich noch einige Trainer zu und am Sonntag sind die Zaungäste am Viereck dann Richter. Diese nutzen unser Trainingswochenende für ihre Weiterbildung\, es hat keinen Einfluss auf die Fahrer! \n  \nAm Sonntag sollten einige Fahrer dann M-Dressuraufgaben fahren\, damit die Richter etwas zum Richten/Vergleichen haben. \n  \nDie Kosten für Trainingseinheiten der Fahrer belaufen sich auf 30€ je Einheit (1/2 Stunde). Möglich ist es\, jeweils am Vor- und Nachmittag zu trainieren\, man kann aber auch nur eine Einheit pro Tag buchen. Die Kosten für das Training müssen nach der Anmeldebestätigung auf das Vereinskonto überwiesen werden. \n  \nVorgesehen ist das Training jeweils von 09:00 – 12:30Uhr und 13:30-17:00Uhr\, Zuschauer sind an dem Wochende natürlich gerne gesehen! \n  \nAnmeldungen bitte mit ausgefülltem Formular (hier klicken) bis zum 08. Oktober an Dorit Santema: stellvertreter@fahrverein-st-medardus.de  (begrenzte Teilnehmerzahl!) \n  \nFür Fragen stehen Dorit Santema und Heiner Bouten natürlich gerne zur Verfügung. \n \n  \nViele Grüße und \n„Schnalle links\, Strupfe rechts\, Bremse los …“
URL:https://www.fahrverein-st-medardus.de/event/wolle-lohrer-training/
END:VEVENT
END:VCALENDAR