BEGIN:VCALENDAR
VERSION:2.0
PRODID:-//St. Medardus - ECPv6.15.20//NONSGML v1.0//EN
CALSCALE:GREGORIAN
METHOD:PUBLISH
X-ORIGINAL-URL:https://www.fahrverein-st-medardus.de
X-WR-CALDESC:Veranstaltungen für St. Medardus
REFRESH-INTERVAL;VALUE=DURATION:PT1H
X-Robots-Tag:noindex
X-PUBLISHED-TTL:PT1H
BEGIN:VTIMEZONE
TZID:Europe/Berlin
BEGIN:DAYLIGHT
TZOFFSETFROM:+0100
TZOFFSETTO:+0200
TZNAME:CEST
DTSTART:20200329T010000
END:DAYLIGHT
BEGIN:STANDARD
TZOFFSETFROM:+0200
TZOFFSETTO:+0100
TZNAME:CET
DTSTART:20201025T010000
END:STANDARD
BEGIN:DAYLIGHT
TZOFFSETFROM:+0100
TZOFFSETTO:+0200
TZNAME:CEST
DTSTART:20210328T010000
END:DAYLIGHT
BEGIN:STANDARD
TZOFFSETFROM:+0200
TZOFFSETTO:+0100
TZNAME:CET
DTSTART:20211031T010000
END:STANDARD
BEGIN:DAYLIGHT
TZOFFSETFROM:+0100
TZOFFSETTO:+0200
TZNAME:CEST
DTSTART:20220327T010000
END:DAYLIGHT
BEGIN:STANDARD
TZOFFSETFROM:+0200
TZOFFSETTO:+0100
TZNAME:CET
DTSTART:20221030T010000
END:STANDARD
END:VTIMEZONE
BEGIN:VEVENT
DTSTART;VALUE=DATE:20210626
DTEND;VALUE=DATE:20210628
DTSTAMP:20260424T211625
CREATED:20210301T131757Z
LAST-MODIFIED:20210625T103010Z
UID:4797-1624665600-1624838399@www.fahrverein-st-medardus.de
SUMMARY:Training unter TurnierbedingungenDressur/Hindernis und Geländetraining
DESCRIPTION:***UPDATE**** \n\n\nDie Vorbereitungen laufen auf Hochtouren für die nächsten beiden Tage. \n\n\n \n\n\nFür Samstag haben sich 28 Gespanne für Dressur und Hindernisfahren angemeledet und am Sonnstag für den Trainingsmarathon stolze 21 Gespanne!\n\n\n \n\n\nSamstag geht es ab ca. 10Uhr los bis ca.16Uhr\n\n\nSonntag vormittag kann noch trainiert werden (10-12Uhr)\, ab ca. 13Uhr geht es dann ins Gelände bis ca. 17Uhr.\n\n\n \n\n\nGetränke und Kuchen gibt es selbstverständlich auch und unter Einhaltung der aktuellen Corona Schutzverordnung freuen wir uns natürlich über zahlreiche Besucher! \n\n\n \n\n\n \n\n\n  \n  \n  \nLiebe Vereinsmitglieder\, \nam 26. & 27. Juni kann nun das verschobene Training unter Turnierbedingungen stattfinden. Mit diesem Training möchten wir zum einen den Turnierfahrern die Möglichkeit geben\, sich auf die hoffentlich anstehenden Turniere vorzubereiten\, aber auch allen Fahrern die Möglichkeit geben ganz entspannt einen Einblick in die Turnierluft zu bekommen. \nAm Samstag\, den 26. Juni sind Dressur und Kegelfahren geplant und am Sonntag\, den 27. Juni soll das Geländefahren stattfinden. Gestartet wird in den Klassen E und A. Es wird ein Richter anwesend sein\, der die Dressur kommentiert (nicht benotet!). \nAm Samstag wird in der E-Dressur die Aufgabe FE2 gefahren und in der A-Dressur die Aufgabe FA4. Im Anschluss an die Dressur geht es direkt in den Kegelparcours.\nAm Sonntagmorgen sind 2 der festen Hindernisse nur für die Teilnehmer offen\, um unter Aufsicht zu üben. Ab 13 Uhr findet dann die Prüfungssimulation statt. In der Klasse E sind 3 feste Hindernisse und in der Klasse A 4 feste Hindernisse vorgesehen. \nAn beiden Tagen stehen mit Dirk & Heiner  zwei Trainer am Fahrplatz zur Unterstützung zur Verfügung!  Wer also Hilfe beim Abgehen des Kegelpacours benötigt oder noch die eine oder andere Frage zur  Dressur hat\, kann sich gerne an die beiden wenden. Am Sonntag morgen sind sie dann an den Hindernissen.\nDas Startgeld beträgt für die Dressur/Kegelfahren am Samstag 10 € und für das Geländefahren am Sonntag 10 € und ist vor Ort bar zu bezahlen. \nDie Startbereitschaft ist bis Freitag\, 25. Juni\, 18.00 Uhr telefonisch unter 01776981557 oder per Email unter christina.krueger.92@web.de an Christina Krüger zu erklären. Die Starterliste (Reihenfolge) wird auf der Homepage veröffentlicht. \nBitte unbedingt die Spurbreite auf dem beigefügten Nennungsformular angeben. \nNatürlich ist es auch möglich nur an einem der beiden Tage an dem Training unter Turnierbedingungen teilzunehmen.\nWir bitten um Anmeldung mit dem ausgefüllten Nennungsformular bis zum 18.06.21 bei Dorit Santema (0151/53310016 – sportwart@fahrverein-st-medardus.de). \nNennungsformular
URL:https://www.fahrverein-st-medardus.de/event/training-unter-turnierbedingungendressur-hindernis-und-gelaendetraining/
END:VEVENT
END:VCALENDAR