BEGIN:VCALENDAR
VERSION:2.0
PRODID:-//St. Medardus - ECPv6.15.20//NONSGML v1.0//EN
CALSCALE:GREGORIAN
METHOD:PUBLISH
X-ORIGINAL-URL:https://www.fahrverein-st-medardus.de
X-WR-CALDESC:Veranstaltungen für St. Medardus
REFRESH-INTERVAL;VALUE=DURATION:PT1H
X-Robots-Tag:noindex
X-PUBLISHED-TTL:PT1H
BEGIN:VTIMEZONE
TZID:Europe/Berlin
BEGIN:DAYLIGHT
TZOFFSETFROM:+0100
TZOFFSETTO:+0200
TZNAME:CEST
DTSTART:20200329T010000
END:DAYLIGHT
BEGIN:STANDARD
TZOFFSETFROM:+0200
TZOFFSETTO:+0100
TZNAME:CET
DTSTART:20201025T010000
END:STANDARD
BEGIN:DAYLIGHT
TZOFFSETFROM:+0100
TZOFFSETTO:+0200
TZNAME:CEST
DTSTART:20210328T010000
END:DAYLIGHT
BEGIN:STANDARD
TZOFFSETFROM:+0200
TZOFFSETTO:+0100
TZNAME:CET
DTSTART:20211031T010000
END:STANDARD
BEGIN:DAYLIGHT
TZOFFSETFROM:+0100
TZOFFSETTO:+0200
TZNAME:CEST
DTSTART:20220327T010000
END:DAYLIGHT
BEGIN:STANDARD
TZOFFSETFROM:+0200
TZOFFSETTO:+0100
TZNAME:CET
DTSTART:20221030T010000
END:STANDARD
END:VTIMEZONE
BEGIN:VEVENT
DTSTART;TZID=Europe/Berlin:20210417T080000
DTEND;TZID=Europe/Berlin:20210417T170000
DTSTAMP:20260425T004901
CREATED:20210301T131606Z
LAST-MODIFIED:20210411T140219Z
UID:4791-1618646400-1618678800@www.fahrverein-st-medardus.de
SUMMARY:Erste Hilfe Kurs am Pferd mitDr. Michael Müller ----ABGESAGT-----
DESCRIPTION:
URL:https://www.fahrverein-st-medardus.de/event/erste-hilfe-kurs-am-pferd-mitdr-michael-mueller/
END:VEVENT
END:VCALENDAR