BEGIN:VCALENDAR
VERSION:2.0
PRODID:-//St. Medardus - ECPv6.15.20//NONSGML v1.0//EN
CALSCALE:GREGORIAN
METHOD:PUBLISH
X-WR-CALNAME:St. Medardus
X-ORIGINAL-URL:https://www.fahrverein-st-medardus.de
X-WR-CALDESC:Veranstaltungen für St. Medardus
REFRESH-INTERVAL;VALUE=DURATION:PT1H
X-Robots-Tag:noindex
X-PUBLISHED-TTL:PT1H
BEGIN:VTIMEZONE
TZID:Europe/Berlin
BEGIN:DAYLIGHT
TZOFFSETFROM:+0100
TZOFFSETTO:+0200
TZNAME:CEST
DTSTART:20190331T010000
END:DAYLIGHT
BEGIN:STANDARD
TZOFFSETFROM:+0200
TZOFFSETTO:+0100
TZNAME:CET
DTSTART:20191027T010000
END:STANDARD
BEGIN:DAYLIGHT
TZOFFSETFROM:+0100
TZOFFSETTO:+0200
TZNAME:CEST
DTSTART:20200329T010000
END:DAYLIGHT
BEGIN:STANDARD
TZOFFSETFROM:+0200
TZOFFSETTO:+0100
TZNAME:CET
DTSTART:20201025T010000
END:STANDARD
BEGIN:DAYLIGHT
TZOFFSETFROM:+0100
TZOFFSETTO:+0200
TZNAME:CEST
DTSTART:20210328T010000
END:DAYLIGHT
BEGIN:STANDARD
TZOFFSETFROM:+0200
TZOFFSETTO:+0100
TZNAME:CET
DTSTART:20211031T010000
END:STANDARD
END:VTIMEZONE
BEGIN:VEVENT
DTSTART;VALUE=DATE:20200906
DTEND;VALUE=DATE:20200907
DTSTAMP:20260425T131517
CREATED:20200727T091351Z
LAST-MODIFIED:20200727T091803Z
UID:4372-1599350400-1599436799@www.fahrverein-st-medardus.de
SUMMARY:Einsteigertraining mit Markus Metz
DESCRIPTION:Liebe Vereinsfreunde\, \n  \nnachdem das Vereinsgeschehen langsam wieder an Fahrt aufnimmt\, der Fahrkurs bereits in vollen Zügen läuft\, freuen wir uns sehr\, auch die Trainingsangebote wieder ausweiten zu können. \nAm 06. September findet ein Einstiegstraining statt. Hierfür konnten wir Markus Metz gewinnen\, Trainer B Fahren und Richter Fahren aus Dillenburg. Markus wird jeden Fahrer eine halbe Stunde trainieren\, es können ein oder mehrere Einheiten gebucht werden. Bei Bedarf werden wir den Samstag als Trainingstag mit dazu nehmen. Kosten: 35 €/Einheit \nDer Beginn des Trainings allgemein und die ungefähren Uhrzeiten der Trainingsstunden für die Teilnehmer werden nach Eingang der Anmeldungen mitgeteilt. \nAnmeldungen mit Gespannart zum Training mit Markus Metz werden erbeten bis zum 29.08.20 \nAnmeldung werden erbeten an sportwart@fahrverein-st-medardus.de  oder 0151-53310016.  \n  \nIm Namen des Vorstandes \nEure Sportwartin Dorit
URL:https://www.fahrverein-st-medardus.de/event/einsteigertraining-mit-markus-metz/
END:VEVENT
END:VCALENDAR