BEGIN:VCALENDAR
VERSION:2.0
PRODID:-//St. Medardus - ECPv6.15.20//NONSGML v1.0//EN
CALSCALE:GREGORIAN
METHOD:PUBLISH
X-ORIGINAL-URL:https://www.fahrverein-st-medardus.de
X-WR-CALDESC:Veranstaltungen für St. Medardus
REFRESH-INTERVAL;VALUE=DURATION:PT1H
X-Robots-Tag:noindex
X-PUBLISHED-TTL:PT1H
BEGIN:VTIMEZONE
TZID:Europe/Berlin
BEGIN:DAYLIGHT
TZOFFSETFROM:+0100
TZOFFSETTO:+0200
TZNAME:CEST
DTSTART:20190331T010000
END:DAYLIGHT
BEGIN:STANDARD
TZOFFSETFROM:+0200
TZOFFSETTO:+0100
TZNAME:CET
DTSTART:20191027T010000
END:STANDARD
BEGIN:DAYLIGHT
TZOFFSETFROM:+0100
TZOFFSETTO:+0200
TZNAME:CEST
DTSTART:20200329T010000
END:DAYLIGHT
BEGIN:STANDARD
TZOFFSETFROM:+0200
TZOFFSETTO:+0100
TZNAME:CET
DTSTART:20201025T010000
END:STANDARD
BEGIN:DAYLIGHT
TZOFFSETFROM:+0100
TZOFFSETTO:+0200
TZNAME:CEST
DTSTART:20210328T010000
END:DAYLIGHT
BEGIN:STANDARD
TZOFFSETFROM:+0200
TZOFFSETTO:+0100
TZNAME:CET
DTSTART:20211031T010000
END:STANDARD
END:VTIMEZONE
BEGIN:VEVENT
DTSTART;VALUE=DATE:20200601
DTEND;VALUE=DATE:20200602
DTSTAMP:20260425T180243
CREATED:20200515T102049Z
LAST-MODIFIED:20200515T102049Z
UID:4164-1590969600-1591055999@www.fahrverein-st-medardus.de
SUMMARY:Offenes Geländetraining mit drei festen Hindernissen
DESCRIPTION:Jeweils ein Trainer steht an einem Hindernis \nAnmeldungen zu allen Trainings bitte direkt an Dorit Santema ds@tierheilpraxis-santema.de oder 0151-53310016. \nDamit wir nicht zu viele Fahrer gleichzeitig auf dem Platz haben\, wird in einer festen Reihenfolge gefahren! \nJede Trainingseinheit dauert 30 min\, ausser beim Geländetraining\, da setzen wir 15 min pro Hindernis an\, d.h. es wird in Gruppen gefahren.
URL:https://www.fahrverein-st-medardus.de/event/offenes-gelaendetraining-mit-drei-festen-hindernissen/
END:VEVENT
END:VCALENDAR