BEGIN:VCALENDAR
VERSION:2.0
PRODID:-//St. Medardus - ECPv6.15.20//NONSGML v1.0//EN
CALSCALE:GREGORIAN
METHOD:PUBLISH
X-ORIGINAL-URL:https://www.fahrverein-st-medardus.de
X-WR-CALDESC:Veranstaltungen für St. Medardus
REFRESH-INTERVAL;VALUE=DURATION:PT1H
X-Robots-Tag:noindex
X-PUBLISHED-TTL:PT1H
BEGIN:VTIMEZONE
TZID:Europe/Berlin
BEGIN:DAYLIGHT
TZOFFSETFROM:+0100
TZOFFSETTO:+0200
TZNAME:CEST
DTSTART:20190331T010000
END:DAYLIGHT
BEGIN:STANDARD
TZOFFSETFROM:+0200
TZOFFSETTO:+0100
TZNAME:CET
DTSTART:20191027T010000
END:STANDARD
BEGIN:DAYLIGHT
TZOFFSETFROM:+0100
TZOFFSETTO:+0200
TZNAME:CEST
DTSTART:20200329T010000
END:DAYLIGHT
BEGIN:STANDARD
TZOFFSETFROM:+0200
TZOFFSETTO:+0100
TZNAME:CET
DTSTART:20201025T010000
END:STANDARD
BEGIN:DAYLIGHT
TZOFFSETFROM:+0100
TZOFFSETTO:+0200
TZNAME:CEST
DTSTART:20210328T010000
END:DAYLIGHT
BEGIN:STANDARD
TZOFFSETFROM:+0200
TZOFFSETTO:+0100
TZNAME:CET
DTSTART:20211031T010000
END:STANDARD
END:VTIMEZONE
BEGIN:VEVENT
DTSTART;TZID=Europe/Berlin:20200314T080000
DTEND;TZID=Europe/Berlin:20200315T170000
DTSTAMP:20260425T225854
CREATED:20190902T054830Z
LAST-MODIFIED:20190902T054929Z
UID:3475-1584172800-1584291600@www.fahrverein-st-medardus.de
SUMMARY:Fahrtraining mit Wolfgang Lohrer „Start in die Saison“
DESCRIPTION:Infos folgen…
URL:https://www.fahrverein-st-medardus.de/event/fahrtraining-mit-wolfgang-lohrer-teil-start-in-die-saison/
END:VEVENT
END:VCALENDAR