BEGIN:VCALENDAR
VERSION:2.0
PRODID:-//St. Medardus - ECPv6.15.20//NONSGML v1.0//EN
CALSCALE:GREGORIAN
METHOD:PUBLISH
X-ORIGINAL-URL:https://www.fahrverein-st-medardus.de
X-WR-CALDESC:Veranstaltungen für St. Medardus
REFRESH-INTERVAL;VALUE=DURATION:PT1H
X-Robots-Tag:noindex
X-PUBLISHED-TTL:PT1H
BEGIN:VTIMEZONE
TZID:Europe/Berlin
BEGIN:DAYLIGHT
TZOFFSETFROM:+0100
TZOFFSETTO:+0200
TZNAME:CEST
DTSTART:20190331T010000
END:DAYLIGHT
BEGIN:STANDARD
TZOFFSETFROM:+0200
TZOFFSETTO:+0100
TZNAME:CET
DTSTART:20191027T010000
END:STANDARD
BEGIN:DAYLIGHT
TZOFFSETFROM:+0100
TZOFFSETTO:+0200
TZNAME:CEST
DTSTART:20200329T010000
END:DAYLIGHT
BEGIN:STANDARD
TZOFFSETFROM:+0200
TZOFFSETTO:+0100
TZNAME:CET
DTSTART:20201025T010000
END:STANDARD
BEGIN:DAYLIGHT
TZOFFSETFROM:+0100
TZOFFSETTO:+0200
TZNAME:CEST
DTSTART:20210328T010000
END:DAYLIGHT
BEGIN:STANDARD
TZOFFSETFROM:+0200
TZOFFSETTO:+0100
TZNAME:CET
DTSTART:20211031T010000
END:STANDARD
END:VTIMEZONE
BEGIN:VEVENT
DTSTART;TZID=Europe/Berlin:20200118T133000
DTEND;TZID=Europe/Berlin:20200118T153000
DTSTAMP:20260426T021826
CREATED:20191202T104715Z
LAST-MODIFIED:20200105T203638Z
UID:3993-1579354200-1579361400@www.fahrverein-st-medardus.de
SUMMARY:Winterseminar
DESCRIPTION:Liebe Vereinsfreunde\, \nFür den Fahrverein werden wir am 18. Januar 2020\, 13:30 Uhr bis 15:30 Uhr mit unserem Winterseminar „Anti-Stress-Training“ in das neue Jahr starten. \nAls Lehrgangsleiter konnten wir dank der Hilfe von Louis Droemont Herrn Horst Peters gewinnen. \nHorst Peters war über 12 Jahre Leiter der Polizeireiterstaffel Aachen und hat seinen Beruf zu seiner Passion gemacht. Er ist nicht nur begeisterter Fahrer\, sondern arbeitet mit dem aktiven Teil der Aachener Stadtreiter ständig an neuen Herausforderungen\, die man mit Pferden stressfrei und kontrolliert meistern kann. \nIn seiner ganz Speziellen „öcher Art“ wird er praxisnah mit den Teilnehmern und auch ihren Gespannen im Wechsel zwischen Theorie und Praxis individuell auf die Problemstellungen eingehen und Lösungen erarbeiten. \nDie Kostenumlage beträgt € 10\,oo pro Teilnehmer. \nUm Anmeldung wird bis zum 10. Januar 2020 gebeten. Anmeldungen bitte per E-Mail an: gerhard.thelen@t-online.de schicken. \nGebt bitte bei der Anmeldung an\, ob Ihr mit Eurem Gespann oder „nur“ als Zuschauer an dem Seminar teilnehmen wollt. Die Teilnehmer\nmit Gespannen sollten vorsichtshalber Kopfhörer zum Anschluss an die Funkanlage mitbrinen (wie beim Kegelfahrtraining). \nViele Grüße\nGerhard Thelen
URL:https://www.fahrverein-st-medardus.de/event/winterseminar/
END:VEVENT
END:VCALENDAR